BEGIN:VCALENDAR
VERSION:2.0
PRODID:-//CELTIC-NEXT - ECPv6.15.20//NONSGML v1.0//EN
CALSCALE:GREGORIAN
METHOD:PUBLISH
X-WR-CALNAME:CELTIC-NEXT
X-ORIGINAL-URL:https://www.celticnext.eu
X-WR-CALDESC:Events for CELTIC-NEXT
REFRESH-INTERVAL;VALUE=DURATION:PT1H
X-Robots-Tag:noindex
X-PUBLISHED-TTL:PT1H
BEGIN:VTIMEZONE
TZID:Europe/Berlin
BEGIN:DAYLIGHT
TZOFFSETFROM:+0100
TZOFFSETTO:+0200
TZNAME:CEST
DTSTART:20170326T010000
END:DAYLIGHT
BEGIN:STANDARD
TZOFFSETFROM:+0200
TZOFFSETTO:+0100
TZNAME:CET
DTSTART:20171029T010000
END:STANDARD
BEGIN:DAYLIGHT
TZOFFSETFROM:+0100
TZOFFSETTO:+0200
TZNAME:CEST
DTSTART:20180325T010000
END:DAYLIGHT
BEGIN:STANDARD
TZOFFSETFROM:+0200
TZOFFSETTO:+0100
TZNAME:CET
DTSTART:20181028T010000
END:STANDARD
BEGIN:DAYLIGHT
TZOFFSETFROM:+0100
TZOFFSETTO:+0200
TZNAME:CEST
DTSTART:20190331T010000
END:DAYLIGHT
BEGIN:STANDARD
TZOFFSETFROM:+0200
TZOFFSETTO:+0100
TZNAME:CET
DTSTART:20191027T010000
END:STANDARD
END:VTIMEZONE
BEGIN:VEVENT
DTSTART;TZID=Europe/Berlin:20181129T100000
DTEND;TZID=Europe/Berlin:20181129T130000
DTSTAMP:20260426T054331
CREATED:20181210T142409Z
LAST-MODIFIED:20220530T083330Z
UID:12981-1543485600-1543496400@www.celticnext.eu
SUMMARY:CELTIC Online Project Idea Pitching
DESCRIPTION:CELTIC held its 2nd Online Pitching Session with participants from Korea and Canada that joined the European ICT Community on 29th of November 2018.\nThe webinar started with an introduction on the follow-up cluster CELTIC-NEXT to explain the future strategic directions of the cluster to the audience.  Proposers from Canada\, France\, Finland\, Spain and Turkey presented their project ideas. A lively discussion followed the pitch presentations covering future energy related distribution networks in 5G\, next generation of transportation systems including dedicated security requirements. In addition critical questions on scalability of introduced innovative blockchain solutions have been discussed. During the webinar insights on the CELTIC Spring Call (deadline 8th of April 2019) and an overview on the timeline from the submission of a CELTIC proposal to the label of a CELTIC proposal has been given. \nThe target audience for this webinar were participants interested in building a project consortium for future CELTIC proposals. \nAgenda and Pitches \n\nIntroduction to CELTIC-NEXT\nby Peter Herrmann\, Director CELTIC Office\nIntroduction to the Online Pitching Session and How to Submit a CELTIC Project Proposal to the CELTIC Spring Call 2019 (deadline 8th of April 2019)\nby Christiane Reinsch\, Programme Coordinator CELTIC Office\nSeveral pitches have been presented covering a wide range of ICT related topics by Canadian\, French\, Finish\, Spanish and Turkish Pitch Presenters.\n\nJoin the CELTIC Consortium Building Web-Sessions in the 1st week of December\nThe Pitch presenters and the moderator Christiane Reinsch from the CELTIC Office announced the possibility to join the consortium building websessions that have been held in the 1st week of December. The connection details can be found on the last slides of the presentations. Please do not hesitate to join the consortium building web-sessions in case you are interested in one of the newly presented pitches. This is a good opportunity to further connect and discuss a possible involvement in one of the below CELTIC project ideas.\n \nPitch Presentations held during the session\n\n\n\n\n	DOWNLOADCONTACTCOMPANYCOUNTRYCELTIC CONSORTIUM BUILDING WEB-SESSION\n\n\n\n\n	5G-SAFE+Mr. Pekka ElorantaSitowise OyFinland3 December 13-14 CET\n\n\n\n	I-Do-WellDr. Thiago AbreuUniversite Paris-Est CreteilFranceplease contact via email\n\n\n	5G Predictive Monitoring PlattformMr. Fernando IglesiasConnecting Strategy & Telecom SolutionsSpain5 December 11-12 CET\n\n\n\n	Smart StreamsMrs. Mügel KuralEterationTurkey3 December 11-12 CET\n\n\n\n	E-Gov 4.0Mr.Emilio MuletAccuro TechnologySpain4 December 10-11 CET\n\n\n\n	Power & Energy eXchange in 5G Mr. Maurice MalkaTsi-ecoCanada3 December 16-17 CET\n\n\n\n\n\nFind Pitch Presentations of previous CELTIC Proposers Days and CELTIC Events\nPlease have also a look at Pitch Presentations of previous CELTIC Proposers Days  \n 
URL:https://www.celticnext.eu/event/celtic-online-project-idea-pitching/
ATTACH;FMTTYPE=image/png:https://www.celticnext.eu/wp-content/uploads/2018/12/online-proposal-banner-webex-29.11.2018.png
END:VEVENT
END:VCALENDAR