BEGIN:VCALENDAR
VERSION:2.0
PRODID:-//CELTIC-NEXT - ECPv6.15.20//NONSGML v1.0//EN
CALSCALE:GREGORIAN
METHOD:PUBLISH
X-WR-CALNAME:CELTIC-NEXT
X-ORIGINAL-URL:https://www.celticnext.eu
X-WR-CALDESC:Events for CELTIC-NEXT
REFRESH-INTERVAL;VALUE=DURATION:PT1H
X-Robots-Tag:noindex
X-PUBLISHED-TTL:PT1H
BEGIN:VTIMEZONE
TZID:Europe/Berlin
BEGIN:DAYLIGHT
TZOFFSETFROM:+0100
TZOFFSETTO:+0200
TZNAME:CEST
DTSTART:20180325T010000
END:DAYLIGHT
BEGIN:STANDARD
TZOFFSETFROM:+0200
TZOFFSETTO:+0100
TZNAME:CET
DTSTART:20181028T010000
END:STANDARD
BEGIN:DAYLIGHT
TZOFFSETFROM:+0100
TZOFFSETTO:+0200
TZNAME:CEST
DTSTART:20190331T010000
END:DAYLIGHT
BEGIN:STANDARD
TZOFFSETFROM:+0200
TZOFFSETTO:+0100
TZNAME:CET
DTSTART:20191027T010000
END:STANDARD
BEGIN:DAYLIGHT
TZOFFSETFROM:+0100
TZOFFSETTO:+0200
TZNAME:CEST
DTSTART:20200329T010000
END:DAYLIGHT
BEGIN:STANDARD
TZOFFSETFROM:+0200
TZOFFSETTO:+0100
TZNAME:CET
DTSTART:20201025T010000
END:STANDARD
END:VTIMEZONE
BEGIN:VEVENT
DTSTART;TZID=Europe/Berlin:20190820T113000
DTEND;TZID=Europe/Berlin:20190820T163000
DTSTAMP:20260426T014245
CREATED:20190724T061943Z
LAST-MODIFIED:20220530T082119Z
UID:14901-1566300600-1566318600@www.celticnext.eu
SUMMARY:CELTIC Innovate UK Summer Briefing\, 20th of August in London
DESCRIPTION:Learn about funding opportunities from Innovate UK at the EUREKA CELTIC Cluster event on 20th August 2019 in London\, and discuss your project ideas with potential partners\nCELTIC\, part of the EUREKA intergovernmental network\, is a telecommunications industry-led initiative promoting collaborative research and innovation\, supported by public authorities. CELTIC-NEXT\, which deals with future networks\, follows on the footsteps of the CELTIC and CELTIC-PLUS programmes.\nAll organisations interested in participating to a CELTIC-NEXT project are invited to this event. This will be an opportunity to present and discuss proposals and find potential partners to form project consortia.\nDuring this event\, Innovate UK will be announcing a funding competition for UK organisations planning to participate to the CELTIC-NEXT autumn call\, whose scope will cover 5G infrastructure technologies\, as well as applications and services that leverage 5G networks. Innovate UK will provide further guidance on this collaborative R&D funding competition during the event. \n Agenda: \n\nWelcome John Kingsburry\, KTN\nKeynote address by Zoe Webster\, Director for AI and Data Economy at Innovate UK\nInnovate UK CELTIC competition by Jean-François Fava-Verde\, Innovation Lead – Digital at Innovate UK\nCELTIC-NEXT Autumn Call by Christiane Reinsch\, CELTIC-NEXT Programme Coordinator\nPitch presentations moderated by Christiane Reinsch\, CELTIC-NEXT Programme Coordinator\nNetworking lunch\n\nJoin the CELTIC Consortium Building Web-Sessions on 9-13 September.\nIn case you are interested in one of the newly presented pitches\, please  join the consortium building web-sessions. This is a good opportunity to further connect and discuss a possible involvement in one of the below CELTIC project ideas. In case there is no webinar scheduled please contact the pitch presenters directly\, the contact details can be found on the last slide of the presentations. \nMore Project Ideas  \n\n\n\n\n	DOWNLOAD PITCH PRESENTATIONCONTACTCOMPANYCOUNTRY\n\n\n\n\n	Shadow RobotEfstathia SotiropoulouShadow Robot UK\n\n\n	Adaptive Multilink Resource ManagementLes Humphrey\, Michael FitchCommunications Research LtdUK\n\n\n	5G International Music JamNickFABLAB LONDON VRUK\n\n\n	EMPORIUMRenee WansdronkWansdronkNetherlands\n\n\n	AI - enabling effective directly to customer salesMarkus SihvonenLAMK OyFinland\n\n\n	DS-MI2oT:\nMmWave Devices and Systems for Mobile Industrial Internet of ThingsJaswinder LotaUniversity of East of LondonUK\n\n\n	Smart Augmented VR for HealthDavid  Wortley360in360ix\nUK\n\n\n	Dependable Connectivity as a ServiceKeivan NavaieLancaster UniversityUK\n\n\n	5G Air to Ground ConnectivityJean-Christophe SchielAirbusFrance\n\n\n	SAFE HOMEAyman RadwanInstituto de TelecomunicacoesPortugal\n\n\n\n\n  \nIf you have any questions please do not hesitate to contact us\, event@celticnext.eu \nGet informed about the latest CELTIC Events and Proposers Days
URL:https://www.celticnext.eu/event/celtic-innovate-uk-summer-briefing-20th-of-august-in-london/
LOCATION:Prince Philip House\, 3 Carlton House Terrace\, London\, SW1Y 5DG\, United Kingdom
ATTACH;FMTTYPE=image/png:https://www.celticnext.eu/wp-content/uploads/2019/07/2019-briefing-london-twitter-timeline-banner.png
END:VEVENT
END:VCALENDAR