BEGIN:VCALENDAR
VERSION:2.0
PRODID:-//CELTIC-NEXT - ECPv6.15.20//NONSGML v1.0//EN
CALSCALE:GREGORIAN
METHOD:PUBLISH
X-ORIGINAL-URL:https://www.celticnext.eu
X-WR-CALDESC:Events for CELTIC-NEXT
REFRESH-INTERVAL;VALUE=DURATION:PT1H
X-Robots-Tag:noindex
X-PUBLISHED-TTL:PT1H
BEGIN:VTIMEZONE
TZID:Europe/Berlin
BEGIN:DAYLIGHT
TZOFFSETFROM:+0100
TZOFFSETTO:+0200
TZNAME:CEST
DTSTART:20180325T010000
END:DAYLIGHT
BEGIN:STANDARD
TZOFFSETFROM:+0200
TZOFFSETTO:+0100
TZNAME:CET
DTSTART:20181028T010000
END:STANDARD
BEGIN:DAYLIGHT
TZOFFSETFROM:+0100
TZOFFSETTO:+0200
TZNAME:CEST
DTSTART:20190331T010000
END:DAYLIGHT
BEGIN:STANDARD
TZOFFSETFROM:+0200
TZOFFSETTO:+0100
TZNAME:CET
DTSTART:20191027T010000
END:STANDARD
BEGIN:DAYLIGHT
TZOFFSETFROM:+0100
TZOFFSETTO:+0200
TZNAME:CEST
DTSTART:20200329T010000
END:DAYLIGHT
BEGIN:STANDARD
TZOFFSETFROM:+0200
TZOFFSETTO:+0100
TZNAME:CET
DTSTART:20201025T010000
END:STANDARD
END:VTIMEZONE
BEGIN:VEVENT
DTSTART;TZID=Europe/Berlin:20191210T170000
DTEND;TZID=Europe/Berlin:20191210T190000
DTSTAMP:20260426T051600
CREATED:20191024T074505Z
LAST-MODIFIED:20220530T083934Z
UID:15234-1575997200-1576004400@www.celticnext.eu
SUMMARY:CELTIC Online Proposers Day - 10th of December 2019
DESCRIPTION:Stay informed about CELTIC-NEXT\nHigh interest in the CELTICs 3rd Online Pitching Session for the upcoming CELTIC Spring Call 2020 (open until 30th of March) – The Online Proposers Day was highly appriciated by the 150 registered persons! The goal of the Proposers Day was to provide information about CELTIC-NEXT and to exchange new project ideas in the ICT Community. Information about funding opportunities in Canada and Sweden were presented by the public authorities to the audience.\nCELTIC-NEXT Proposers Days are discussion fora for organisations related to telecommunications and ICT that are interested to participate in a R&D project and want to benefit from performing collaborative research through the EUREKA Cluster CELTIC-NEXT. The CELTIC Online Pitching Session included a short session on the funding situation in Canada and Sweden. \nThe session started with a short Welcome of our Programme Coordinator Christiane Reinsch and an introduction to  CELTIC-NEXT and the future strategic directions of the CELTIC cluster to the audience. Funding opportunities were presented by Mrs Sanja Šain-Strömberg (Public Authority\, VINNOVA Sweden) explaining funding in Sweden and Mr Kasturi Narayanan (Public Authority\, NRC Canada) giving details on the funding situation for CELTIC through NRC Canada. Best hands on experiences for new project proposers from Mr. Pekka Eloranta (Sitowise\, Finland) was given to the audience.  During the webinar insights on the CELTIC Spring Call 2020 (30th of March 2020) and an overview on the timeline from the submission of a CELTIC proposal to the label of a CELTIC proposal was explained. The target audience for this webinar were participants interested in building a project consortium for future CELTIC Calls for proposals. \nAgenda: \n16:00- 16:15: Welcome and introduction to CELTIC-NEXT\nby Mrs Christiane Reinsch\, CELTIC Office Programme Coordinator \n16:15- 16:45: Funding opportunities in Canada and Sweden\nmoderated by Mrs Christiane Reinsch\, CELTIC Programme Coordinator \n– Mr Kasturi Narayanan (Public Authority\, NRC Canada) funding situation at NRC Canada\n– Mrs Sanja Šain-Strömberg (Public Authority\, VINNOVA Sweden) funding in Sweden \n16:45- 17:00: Best practices from successful CELTIC Projects\nby Mr. Pekka Eloranto (Sitowise\, Finland). \n17.00- 18:00: 10 CELTIC project ideas have been presented by CELTIC Proposers\nModerator Mrs Christiane Reinsch CELTIC Programme Coordinator. \n10 new CELTIC Project Ideas were presented:\nPlease do not hesitate to contact the pitch presenters to discuss about your involvement in joining a project consortium to prepare a project proposal for one of our CELTIC Calls for projects proposals in the year 2020. The connection details of the pitch presenters can be found on the last page of the presentations. \n\n\n\n\n	DOWNLOADCONTACTCOMPANYCOUNTRY\n\n\n\n\n	AIMMArman ShojaeifardBTUK\n\n\n	AIDYNCONTDr. Baris Aykent Profen GroupTurkey\n\n\n	Smart Rural WaterAlan WhitesideNHS HighlandUK\n\n\n	AI Driven Expert Support SystemMehmet Y. ŞimşekNetRDTurkey\n\n\n	AI enabled D2CMarkus SihvonenHAMK SmartFinland\n\n\n	Ai SafeMartin TörngreenKTHSweden\n\n\n	VIFARMIcten InanKARELTurkey\n\n\n	5G-Safe+Pekka ElorantaSitowiseFinland\n\n\n	RES4CPSJuhani LatvakoskiVTTFinland\n\n\n	Secure and Efficient Key Management for IoEMohsen TooraniLund UniversitySweden\n\n\n\n\nFind Pitch Presentations of previous CELTIC Proposers Days and CELTIC Events\nPlease have also a look at Pitch Presentations of previous CELTIC Proposers Days  \n  \nContact Details: \nFor more information please contact office@celticnext.eu \nSave the 29th of January in your calendar for the CELTIC-EUROGIA Proposers Day on 29th of January at NOKIA premises in Madrid\, Spain. \n \n  \n 
URL:https://www.celticnext.eu/event/celtic-online-proposers-day-10th-of-december-2019/
ATTACH;FMTTYPE=image/png:https://www.celticnext.eu/wp-content/uploads/2019/10/online-proposers-day-10.12.2019.png
END:VEVENT
END:VCALENDAR